BEGIN:VCALENDAR
VERSION:2.0
PRODID:Events Booking
BEGIN:VEVENT
UID:69e736053328e
SUMMARY:Coaching - Outdoor Group session Thursday 11th September
DESCRIPTION:Del West is now a Level 2 Coach so has taken on coaching respon
 sibilities from County Coach Emma.&nbsp\;
 Del will be holding sessions p
 eriodically over the summer and winter months.&nbsp\;&nbsp\;
 Group sessi
 ons have 4 places available.
 Anyone can book a session.&nbsp\; We just a
 sk that you only book one session in the season to give oppertunity to all
  members.&nbsp\;
 However\, if spaces are still available a week before t
 he event\, anyone can book\, regardless of prior sessions.
 Timetable
 S
 essions will start at 18:00 sharp.
 Each group booking will be for 4 NEW 
 people
 If the 4 booked places are not taken by 1 week before the session
 \, anyone is free to book\, regardless of previous sessions.&nbsp\;&nbsp\;
 
 We hope this allows the maximum number of people to take advantage of t
 he coaching while ensuring ongoing improvements can be made.
 What Bows a
 re covered?
 Recurve\, longbow and Barebow.
 Topics covered
 Anything y
 ou like.
 The Venue
 The course will take place at Ipswich School Playin
 g Fields&nbsp\;see map below.
 CANCELLATION
 Your booking prevents other
 s from booking\, please book with consideration as you would if you were p
 aying for the coaching.&nbsp\; Please cancel as soon as you know you can't
  make it or consider yourself committed to attending
 BAD WEATHER / OTHER
  UNAVOIDABLE CIRCUMSTANCES AT THE VENUE
 If an activity is cancelled due 
 to illness\, travel conditions or any other unavoidable circumstances by t
 he venue or coach\, your booking will be rescheduled to a date based on or
 ganisers and venue availability. You will be notified of the alternative d
 ate or dates.&nbsp\;
 Ready to book?
 Press register\, you will be asked
  to fill in some details. You will receive a confirmation email from Blue 
 Arrows shortly after registration. If this fails to happen\, please email:
  webadmin@bluearrows.org.uk
 &nbsp\;
LOCATION:Ipswich School Playing Fields\, The Grove Henley Road\, Ipswich\, 
 IP1 4NR 
DTSTART:20250911T160000Z
DTEND:20250911T180000Z
DTSTAMP:20250610T125515Z
ORGANIZER;CN=Blue Arrows:MAILTO:webadmin@bluearrows.org.uk
GEO:52.074731;1.155992
X-APPLE-STRUCTURED-LOCATION;VALUE=URI;X-ADDRESS=Ipswich School Playing Fiel
 ds\, The Grove Henley Road\, Ipswich\, IP1 4NR ;X-APPLE-RADIUS=72;X-TITLE=
 Ipswich School Playing Fields:52.074731;1.155992
END:VEVENT
END:VCALENDAR